BEGIN:VCALENDAR
VERSION:2.0
PRODID:-//Cabbagetown Heritage Conservation District Committee - ECPv6.15.20//NONSGML v1.0//EN
CALSCALE:GREGORIAN
METHOD:PUBLISH
X-ORIGINAL-URL:https://cabbagetownhcd.ca
X-WR-CALDESC:Events for Cabbagetown Heritage Conservation District Committee
REFRESH-INTERVAL;VALUE=DURATION:PT1H
X-Robots-Tag:noindex
X-PUBLISHED-TTL:PT1H
BEGIN:VTIMEZONE
TZID:America/New_York
BEGIN:DAYLIGHT
TZOFFSETFROM:-0500
TZOFFSETTO:-0400
TZNAME:EDT
DTSTART:20250309T070000
END:DAYLIGHT
BEGIN:STANDARD
TZOFFSETFROM:-0400
TZOFFSETTO:-0500
TZNAME:EST
DTSTART:20251102T060000
END:STANDARD
BEGIN:DAYLIGHT
TZOFFSETFROM:-0500
TZOFFSETTO:-0400
TZNAME:EDT
DTSTART:20260308T070000
END:DAYLIGHT
BEGIN:STANDARD
TZOFFSETFROM:-0400
TZOFFSETTO:-0500
TZNAME:EST
DTSTART:20261101T060000
END:STANDARD
BEGIN:DAYLIGHT
TZOFFSETFROM:-0500
TZOFFSETTO:-0400
TZNAME:EDT
DTSTART:20270314T070000
END:DAYLIGHT
BEGIN:STANDARD
TZOFFSETFROM:-0400
TZOFFSETTO:-0500
TZNAME:EST
DTSTART:20271107T060000
END:STANDARD
END:VTIMEZONE
BEGIN:VEVENT
DTSTART;TZID=America/New_York:20260911T130000
DTEND;TZID=America/New_York:20260911T180000
DTSTAMP:20260423T192437
CREATED:20260417T223954Z
LAST-MODIFIED:20260417T230827Z
UID:9953-1789131600-1789149600@cabbagetownhcd.ca
SUMMARY:Cabbagetown Art & Craft Show
DESCRIPTION:The Cabbagetown Art & Craft Show is one of Toronto’s most celebrated showcases of fine art and craft\, held annually during the neighbourhood’s most vibrant weekend. \nTaking place in the days following Labour Day\, the show coincides with the beloved Cabbagetown Festival and the Riverdale Farm Fall Festival\, creating a dynamic\, community-wide celebration. Set within Riverdale Park West\, in the heart of historic Cabbagetown\, the event draws thousands of visitors each year. \nGuests are invited to meet talented makers and explore a curated selection of sustainable\, handcrafted works—each piece reflecting creativity\, craftsmanship\, and a strong connection to local artistry. \n\n2026 Show Dates\nFriday\, September 111:00 PM – 6:00 PM \nSaturday\, September 1210:00 AM – 6:00 PM \nSunday\, September 1310:00 AM – 5:00 PM
URL:https://cabbagetownhcd.ca/event/cabbagetown-art-craft-show/
LOCATION:Riverdale Park West\, 375 Sumach St\, Toronto\, Ontario\, M4X 1B8\, Canada
ATTACH;FMTTYPE=image/jpeg:https://cabbagetownhcd.ca/wp-content/uploads/2026/04/screenshot-www_cabbagetownartandcraft_org-2026_04_17-18_38_38.jpg
ORGANIZER;CN="The Cabbagetown Art & Craft Show":MAILTO:info@cabbagetownartandcraft.org
END:VEVENT
BEGIN:VEVENT
DTSTART;TZID=America/New_York:20260912T100000
DTEND;TZID=America/New_York:20260912T180000
DTSTAMP:20260423T192437
CREATED:20260417T230050Z
LAST-MODIFIED:20260417T230715Z
UID:9957-1789207200-1789236000@cabbagetownhcd.ca
SUMMARY:Cabbagetown Art & Craft Show
DESCRIPTION:The Cabbagetown Art & Craft Show is one of Toronto’s most celebrated showcases of fine art and craft\, held annually during the neighbourhood’s most vibrant weekend. \nTaking place in the days following Labour Day\, the show coincides with the beloved Cabbagetown Festival and the Riverdale Farm Fall Festival\, creating a dynamic\, community-wide celebration. Set within Riverdale Park West\, in the heart of historic Cabbagetown\, the event draws thousands of visitors each year. \nGuests are invited to meet talented makers and explore a curated selection of sustainable\, handcrafted works—each piece reflecting creativity\, craftsmanship\, and a strong connection to local artistry. \n\n2026 Show Dates\nFriday\, September 111:00 PM – 6:00 PM \nSaturday\, September 1210:00 AM – 6:00 PM \nSunday\, September 1310:00 AM – 5:00 PM
URL:https://cabbagetownhcd.ca/event/cabbagetown-art-craft-show-2/
LOCATION:Riverdale Park West\, 375 Sumach St\, Toronto\, Ontario\, M4X 1B8\, Canada
ATTACH;FMTTYPE=image/jpeg:https://cabbagetownhcd.ca/wp-content/uploads/2026/04/screenshot-www_cabbagetownartandcraft_org-2026_04_17-18_38_38.jpg
ORGANIZER;CN="The Cabbagetown Art & Craft Show":MAILTO:info@cabbagetownartandcraft.org
END:VEVENT
BEGIN:VEVENT
DTSTART;TZID=America/New_York:20260913T100000
DTEND;TZID=America/New_York:20260913T170000
DTSTAMP:20260423T192437
CREATED:20260417T230346Z
LAST-MODIFIED:20260417T230607Z
UID:9961-1789293600-1789318800@cabbagetownhcd.ca
SUMMARY:Cabbagetown Art & Craft Show
DESCRIPTION:The Cabbagetown Art & Craft Show is one of Toronto’s most celebrated showcases of fine art and craft\, held annually during the neighbourhood’s most vibrant weekend. \nTaking place in the days following Labour Day\, the show coincides with the beloved Cabbagetown Festival and the Riverdale Farm Fall Festival\, creating a dynamic\, community-wide celebration. Set within Riverdale Park West\, in the heart of historic Cabbagetown\, the event draws thousands of visitors each year. \nGuests are invited to meet talented makers and explore a curated selection of sustainable\, handcrafted works—each piece reflecting creativity\, craftsmanship\, and a strong connection to local artistry. \n\n2026 Show Dates\nFriday\, September 111:00 PM – 6:00 PM \nSaturday\, September 1210:00 AM – 6:00 PM \nSunday\, September 1310:00 AM – 5:00 PM
URL:https://cabbagetownhcd.ca/event/cabbagetown-art-craft-show-3/
LOCATION:Riverdale Park West\, 375 Sumach St\, Toronto\, Ontario\, M4X 1B8\, Canada
ATTACH;FMTTYPE=image/jpeg:https://cabbagetownhcd.ca/wp-content/uploads/2026/04/screenshot-www_cabbagetownartandcraft_org-2026_04_17-18_38_38.jpg
ORGANIZER;CN="The Cabbagetown Art & Craft Show":MAILTO:info@cabbagetownartandcraft.org
END:VEVENT
END:VCALENDAR